BEGIN:VCALENDAR
VERSION:2.0
PRODID:EVENTFROG//EVENT//ICAL
BEGIN:VEVENT
UID:20260422T055646Z-7452390558918542344@eventfrog.de
DTSTAMP:20260422T055646Z
DTSTART:20260509T120000Z
DTEND:20260509T170000Z
SUMMARY:Kunstausstellung Weltanschauung
DESCRIPTION:Die Ausstellung reflektiert mit Objektkunst, Schaukästen, Installationen und Fotografien gesellschaftliche und globale Themen unserer Zeit.\n\nhttps://eventfrog.de/de/p/kunst-ausstellungen/ausstellung/kunstausstellung-weltanschauung-7452390558918542344.html
LOCATION:Atelier Muggenhofer Str. 45
GEO:49.457837;11.040934
URL:https://eventfrog.de/de/p/kunst-ausstellungen/ausstellung/kunstausstellung-weltanschauung-7452390558918542344.html
END:VEVENT
END:VCALENDAR