BEGIN:VCALENDAR
VERSION:2.0
PRODID:EVENTFROG//EVENT//ICAL
BEGIN:VEVENT
UID:20260422T021837Z-7452391963859396809@eventfrog.de
DTSTAMP:20260422T021837Z
DTSTART:20260424T170000Z
DTEND:20260624T200000Z
SUMMARY:Mamma Mia (ABBA) Mitsing-Party – Hits, DJ & 70s-Feeling!
DESCRIPTION:Erlebe bei der Mamma Mia Mitsing-Party die größten ABBA-Hits mit Live-DJ und interaktiver Stimmung im 70er-Jahre-Style.\n\nhttps://eventfrog.de/de/p/partys/70-s/mamma-mia-abba-mitsing-party-hits-dj-70s-feeling-7452391963859396809.html
LOCATION:Altes Pumpenhaus
GEO:51.064177;13.739260
URL:https://eventfrog.de/de/p/partys/70-s/mamma-mia-abba-mitsing-party-hits-dj-70s-feeling-7452391963859396809.html
END:VEVENT
END:VCALENDAR