BEGIN:VCALENDAR
VERSION:2.0
PRODID:EVENTFROG//EVENT//ICAL
BEGIN:VEVENT
UID:20260422T141701Z-7452405888256605543@eventfrog.de
DTSTAMP:20260422T141701Z
DTSTART:20260530T190000Z
DTEND:20260531T020000Z
SUMMARY:Wald Wird Wahnsinnig
DESCRIPTION:Das Schulfest der SV's vom Borg Egg und der BWS  30.05.2026  Steinebach Clubbing  16+\n\nhttps://eventfrog.de/de/p/partys/sonstige-partys/wald-wird-wahnsinnig-7452405888256605543.html
LOCATION:Steinebach Clubbing
GEO:47.386109;9.715177
URL:https://eventfrog.de/de/p/partys/sonstige-partys/wald-wird-wahnsinnig-7452405888256605543.html
END:VEVENT
END:VCALENDAR