BEGIN:VCALENDAR
VERSION:2.0
PRODID:EVENTFROG//EVENT//ICAL
BEGIN:VEVENT
UID:20260424T071639Z-7452417121168918804@eventfrog.de
DTSTAMP:20260424T071639Z
DTSTART:20260516T210000Z
DTEND:20260517T053000Z
SUMMARY:PAJEL by Bad Attitude
DESCRIPTION:PAJEL begeistert am 16. Mai im Vior Club Zürich mit exklusiver Showcase-Performance und Afterhour bis 07:30 Uhr.\n\nhttps://eventfrog.de/de/p/partys/hip-hop-rap/pajel-by-bad-attitude-7452417121168918804.html
LOCATION:VIOR
GEO:47.373004;8.534968
URL:https://eventfrog.de/de/p/partys/hip-hop-rap/pajel-by-bad-attitude-7452417121168918804.html
END:VEVENT
END:VCALENDAR