BEGIN:VCALENDAR
VERSION:2.0
PRODID:EVENTFROG//EVENT//ICAL
BEGIN:VEVENT
UID:20260424T074710Z-7452420152136568909@eventfrog.de
DTSTAMP:20260424T074710Z
DTSTART:20260525T170000Z
DTEND:20260525T200000Z
SUMMARY:Shibari Jam
DESCRIPTION:Monthly Shibari jam offers an intro hour, partner matchmaking and two hours to explore rope play safely and freely.\n\nhttps://eventfrog.de/en/p/courses-seminars/leisure-hobby/shibari-jam-7452420152136568909.html
LOCATION:Gesundungsraum
GEO:47.371292;8.545731
URL:https://eventfrog.de/en/p/courses-seminars/leisure-hobby/shibari-jam-7452420152136568909.html
END:VEVENT
END:VCALENDAR