BEGIN:VCALENDAR
VERSION:2.0
PRODID:EVENTFROG//EVENT//ICAL
BEGIN:VEVENT
UID:20260424T101610Z-7452424959878557280@eventfrog.de
DTSTAMP:20260424T101610Z
DTSTART:20260510T120000Z
DTEND:20260510T160000Z
SUMMARY:Oliviero Gorza - Ausstellung "Innere Welten"
DESCRIPTION:Oliviero Gorza zeigt kraftvolle Bronzeskulpturen, die handwerkliche Präzision und emotionale Tiefe verbinden.\n\nhttps://eventfrog.de/de/p/kunst-ausstellungen/ausstellung/oliviero-gorza-ausstellung-innere-welten-7452424959878557280.html
LOCATION:Kulturkirche Starrkirch-Wil
GEO:47.352722;7.929255
URL:https://eventfrog.de/de/p/kunst-ausstellungen/ausstellung/oliviero-gorza-ausstellung-innere-welten-7452424959878557280.html
END:VEVENT
END:VCALENDAR