BEGIN:VCALENDAR
VERSION:2.0
PRODID:EVENTFROG//EVENT//ICAL
BEGIN:VEVENT
UID:20260423T053743Z-7452431835269739234@eventfrog.de
DTSTAMP:20260423T053743Z
DTSTART:20260527T110000Z
DTEND:20260527T163500Z
SUMMARY:Barrierefreiheits-Symposium 2026
DESCRIPTION:Experten diskutieren, wie barrierefreies Design entsteht und KI-Tools die digitale Prüfung optimieren – mit Vorträgen und Debatten.\n\nhttps://eventfrog.de/de/p/fuehrungen-vortraege/symposium/barrierefreiheits-symposium-2026-7452431835269739234.html
LOCATION:Hybrid - Online oder im Kap Europa, Frankfurt
URL:https://eventfrog.de/de/p/fuehrungen-vortraege/symposium/barrierefreiheits-symposium-2026-7452431835269739234.html
END:VEVENT
END:VCALENDAR