BEGIN:VCALENDAR
VERSION:2.0
PRODID:EVENTFROG//EVENT//ICAL
BEGIN:VEVENT
UID:20260424T015822Z-7452432215412070558@eventfrog.de
DTSTAMP:20260424T015822Z
DTSTART:20260426T120000Z
DTEND:20260426T150000Z
SUMMARY:Divine Calling - Vorbereitung auf die neue Welt
DESCRIPTION:Bist du bereit für die Herausforderungen der Welt?\n\nhttps://eventfrog.de/de/p/gesundheit-spiritualitaet/spiritualitaet/divine-calling-vorbereitung-auf-die-neue-welt-7452432215412070558.html
LOCATION:Kultur+Kongress Zentrum Rosenheim KU'KO
GEO:47.852585;12.124722
URL:https://eventfrog.de/de/p/gesundheit-spiritualitaet/spiritualitaet/divine-calling-vorbereitung-auf-die-neue-welt-7452432215412070558.html
END:VEVENT
END:VCALENDAR