BEGIN:VCALENDAR
VERSION:2.0
PRODID:EVENTFROG//EVENT//ICAL
BEGIN:VEVENT
UID:20260424T071532Z-7452440988834867175@eventfrog.de
DTSTAMP:20260424T071532Z
DTSTART:20260501T190000Z
SUMMARY:Baraoke 59 Friday Special
DESCRIPTION:come and sing with us or just chill with friends, but have fun!\n\nhttps://eventfrog.de/de/p/partys/karaoke/baraoke-59-friday-special-7452440988834867175.html
LOCATION:Bar59
GEO:47.041981;8.311045
URL:https://eventfrog.de/de/p/partys/karaoke/baraoke-59-friday-special-7452440988834867175.html
END:VEVENT
END:VCALENDAR