BEGIN:VCALENDAR
VERSION:2.0
PRODID:EVENTFROG//EVENT//ICAL
BEGIN:VEVENT
UID:20260425T224825Z-7452449384258637687@eventfrog.de
DTSTAMP:20260425T224825Z
DTSTART:20260524T080000Z
DTEND:20260524T110000Z
SUMMARY:Indian Vegan Brunch in Zürich!
DESCRIPTION:We serve a vegan brunch in Zurich with seasonal, authentic, and rare Indian home dishes\nWir servieren in Zürich einen veganen Brunch mit saisonalen, authentischen und seltenen indischen Hausgerichten.\n\nhttps://eventfrog.de/en/p/eating-drinking/indian-vegan-brunch-in-zuerich-7452449384258637687.html
LOCATION:Andreaspark Gemeinschaftsraum, Hagenholzstrasse 66a, 8050 Zürich, CH
GEO:47.413630;8.556176
URL:https://eventfrog.de/en/p/eating-drinking/indian-vegan-brunch-in-zuerich-7452449384258637687.html
END:VEVENT
END:VCALENDAR