BEGIN:VCALENDAR
VERSION:2.0
PRODID:EVENTFROG//EVENT//ICAL
BEGIN:VEVENT
UID:20260424T072517Z-7452453277843613537@eventfrog.de
DTSTAMP:20260424T072517Z
DTSTART:20260513T180000Z
SUMMARY:B59 Thrill w/ Laslow
DESCRIPTION:Hip-Hop, R&B, Afro & Dancehall mit DJ Laslow in der Bar.\n\nhttps://eventfrog.de/de/p/partys/charts-open-format/b59-thrill-w-laslow-7452453277843613537.html
LOCATION:Bar59
GEO:47.041981;8.311045
URL:https://eventfrog.de/de/p/partys/charts-open-format/b59-thrill-w-laslow-7452453277843613537.html
END:VEVENT
END:VCALENDAR