BEGIN:VCALENDAR
VERSION:2.0
PRODID:EVENTFROG//EVENT//ICAL
BEGIN:VEVENT
UID:20260423T070531Z-7452472445959672138@eventfrog.de
DTSTAMP:20260423T070531Z
DTSTART:20260502T150000Z
DTEND:20260502T170000Z
SUMMARY:Le Chant des forêts
DESCRIPTION:Le Chant des forêts\n\nhttps://eventfrog.de/de/p/freizeit-ausfluege/le-chant-des-forets-7452472445959672138.html
LOCATION:Kino Roxy
GEO:47.565019;9.374795
URL:https://eventfrog.de/de/p/freizeit-ausfluege/le-chant-des-forets-7452472445959672138.html
END:VEVENT
END:VCALENDAR