BEGIN:VCALENDAR
VERSION:2.0
PRODID:EVENTFROG//EVENT//ICAL
BEGIN:VEVENT
UID:20260425T124347Z-7452475730233937342@eventfrog.de
DTSTAMP:20260425T124347Z
DTSTART:20261114T191500Z
SUMMARY:Todisco & Pupato
DESCRIPTION:Todisco & Pupato\n\nhttps://eventfrog.de/de/p/konzerte/todisco-pupato-7452475730233937342.html
LOCATION:Assel-Keller
GEO:47.329175;9.226654
URL:https://eventfrog.de/de/p/konzerte/todisco-pupato-7452475730233937342.html
END:VEVENT
END:VCALENDAR