BEGIN:VCALENDAR
VERSION:2.0
PRODID:EVENTFROG//EVENT//ICAL
BEGIN:VEVENT
UID:20260424T144215Z-7452478394359369033@eventfrog.de
DTSTAMP:20260424T144215Z
DTSTART:20260618T170000Z
DTEND:20260618T200000Z
SUMMARY:Frühlingskonzert – Opernhaftes aus Klassik und Romantik
DESCRIPTION:Solistinnen und Ensembles der JSB Musikschule spielen am 18.5. Werke aus Klassik bis Jazz, Erlös geht an bedürftige Nachwuchsmusikerinnen und Kinder.\n\nhttps://eventfrog.de/de/p/konzerte/weitere-musikrichtungen/fruehlingskonzert-opernhaftes-aus-klassik-und-romantik-7452478394359369033.html
LOCATION:Haus der Industrie
GEO:48.199756;16.375779
URL:https://eventfrog.de/de/p/konzerte/weitere-musikrichtungen/fruehlingskonzert-opernhaftes-aus-klassik-und-romantik-7452478394359369033.html
END:VEVENT
END:VCALENDAR