BEGIN:VCALENDAR
VERSION:2.0
PRODID:EVENTFROG//EVENT//ICAL
BEGIN:VEVENT
UID:20260422T044445Z-7452479188408235369@eventfrog.de
DTSTAMP:20260422T044445Z
DTSTART:20260502T170000Z
SUMMARY:40.jähriges Jubiläumsgospelkonzert der Blue Notes
DESCRIPTION:Der Blue Notes Choir singt am 2. Mai 2026 um 19 Uhr sein 40-jähriges Jubiläumskonzert in der Paul-Gerhardt-Kirche Nürnberg.\n\nhttps://eventfrog.de/de/p/konzerte/gospel/40-jaehriges-jubilaeumsgospelkonzert-der-blue-notes-7452479188408235369.html
LOCATION:Paul-Gerhard-Kirche
GEO:49.402779;11.136875
URL:https://eventfrog.de/de/p/konzerte/gospel/40-jaehriges-jubilaeumsgospelkonzert-der-blue-notes-7452479188408235369.html
END:VEVENT
END:VCALENDAR