BEGIN:VCALENDAR
VERSION:2.0
PRODID:EVENTFROG//EVENT//ICAL
BEGIN:VEVENT
UID:20260424T083755Z-7452523802578187219@eventfrog.de
DTSTAMP:20260424T083755Z
DTSTART:20260508T210000Z
DTEND:20260509T020000Z
SUMMARY:PUT ME ZOVE
DESCRIPTION:DJ MAKKY sorgt am 08.05.2026 ab 23 Uhr für Balkan- und Jugo-Beats im Vior Club Zürich, Party bis in den Morgen.\n\nhttps://eventfrog.de/de/p/partys/sonstige-partys/put-me-zove-7452523802578187219.html
LOCATION:VIOR
GEO:47.373004;8.534968
URL:https://eventfrog.de/de/p/partys/sonstige-partys/put-me-zove-7452523802578187219.html
END:VEVENT
END:VCALENDAR