BEGIN:VCALENDAR
VERSION:2.0
PRODID:EVENTFROG//EVENT//ICAL
BEGIN:VEVENT
UID:20260424T065632Z-7452541718459636475@eventfrog.de
DTSTAMP:20260424T065632Z
DTSTART:20260429T140000Z
DTEND:20260429T170000Z
SUMMARY:KI Online-Workshop mit Live Trainer
DESCRIPTION:Ein Praxisnaher Online-Workshop zum Thema KI.\n\nhttps://eventfrog.de/de/p/kurse-seminare/computer-edv/ki-online-workshop-mit-live-trainer-7452541718459636475.html
LOCATION:Online event
URL:https://eventfrog.de/de/p/kurse-seminare/computer-edv/ki-online-workshop-mit-live-trainer-7452541718459636475.html
END:VEVENT
END:VCALENDAR