BEGIN:VCALENDAR
VERSION:2.0
PRODID:EVENTFROG//EVENT//ICAL
BEGIN:VEVENT
UID:20260424T110124Z-7452597860850268848@eventfrog.de
DTSTAMP:20260424T110124Z
DTSTART:20260523T203000Z
DTEND:20260524T020000Z
SUMMARY:Elysium
DESCRIPTION:Pop- und Throwback-Event mit Early Bird Tickets ab 10 Franken. Einlass ab 16 Jahren nur mit gültigem ID-Pass.\n\nhttps://eventfrog.de/de/p/partys/00-s/elysium-7452597860850268848.html
LOCATION:Treibhaus Luzern
GEO:47.042470;8.319226
URL:https://eventfrog.de/de/p/partys/00-s/elysium-7452597860850268848.html
END:VEVENT
END:VCALENDAR