BEGIN:VCALENDAR
VERSION:2.0
PRODID:EVENTFROG//EVENT//ICAL
BEGIN:VEVENT
UID:20260424T202505Z-7452620825855848183@eventfrog.de
DTSTAMP:20260424T202505Z
DTSTART:20260607T173000Z
DTEND:20260607T193000Z
SUMMARY:Breathing Concerts (Finally in Berlin!)
DESCRIPTION:Berlin doesn't get impressed easily. But hundreds of people breathing as one in a sacred space, generating love together and sending it out into the world? Even Berlin hasn't felt anything like this.\n\n\nhttps://eventfrog.de/de/p/religion-feiertage/gemeindefest/breathing-concerts-finally-in-berlin-7452620825855848183.html
LOCATION:Passionskirche, 1 Marheinekeplatz, Berlin, 10961, Germany
GEO:52.489505;13.397187
URL:https://eventfrog.de/de/p/religion-feiertage/gemeindefest/breathing-concerts-finally-in-berlin-7452620825855848183.html
END:VEVENT
END:VCALENDAR