BEGIN:VCALENDAR
VERSION:2.0
PRODID:EVENTFROG//EVENT//ICAL
BEGIN:VEVENT
UID:20260424T080340Z-7452630451825453843@eventfrog.de
DTSTAMP:20260424T080340Z
DTSTART:20260625T163000Z
SUMMARY:Was wäre wenn? Ein Abend mit Sara Satir, Erwin Schatzmann ua
DESCRIPTION:Drei Kurzvorträge von Sara Satir, Coach und Podcasterin, Erwin Schatzmann, Künstler, und Thomas Stocker, Klimaforscher.\n\nhttps://eventfrog.de/de/p/kunst-ausstellungen/weitere-kunstveranstaltungen/was-waere-wenn-ein-abend-mit-sara-satir-erwin-schatzmann-ua-7452630451825453843.html
LOCATION:oxyd – Kunsträume
GEO:47.498011;8.722655
URL:https://eventfrog.de/de/p/kunst-ausstellungen/weitere-kunstveranstaltungen/was-waere-wenn-ein-abend-mit-sara-satir-erwin-schatzmann-ua-7452630451825453843.html
END:VEVENT
END:VCALENDAR