BEGIN:VCALENDAR
VERSION:2.0
PRODID:EVENTFROG//EVENT//ICAL
BEGIN:VEVENT
UID:20260424T083449Z-7452632352579185587@eventfrog.de
DTSTAMP:20260424T083449Z
DTSTART:20260502T163000Z
DTEND:20260502T183000Z
SUMMARY:Landing Together · Integration, Music & Community
DESCRIPTION:anding Together is an intimate community evening for integration, connection, and expression.\n\nhttps://eventfrog.de/en/p/health-spirituality/health-wellbeing/landing-together-integration-music-community-7452632352579185587.html
LOCATION:Jugendhaus Cevi Altstetten-Albisrieden
GEO:47.384877;8.467491
URL:https://eventfrog.de/en/p/health-spirituality/health-wellbeing/landing-together-integration-music-community-7452632352579185587.html
END:VEVENT
END:VCALENDAR