BEGIN:VCALENDAR
VERSION:2.0
PRODID:EVENTFROG//EVENT//ICAL
BEGIN:VEVENT
UID:20260426T022056Z-7452634608892403319@eventfrog.de
DTSTAMP:20260426T022056Z
DTSTART:20260516T200000Z
DTEND:20260517T050000Z
SUMMARY:crew love
DESCRIPTION:𝘐𝘧 𝘺𝘰𝘶'𝘳𝘦 𝘭𝘰𝘴𝘵 𝘺𝘰𝘶 𝘤𝘢𝘯 𝘭𝘰𝘰𝘬 𝘢𝘯𝘥 𝘺𝘰𝘶 𝘸𝘪𝘭𝘭 𝘧𝘪𝘯𝘥 𝘮𝘦\n𝘵𝘪𝘮𝘦 𝘢𝘧𝘵𝘦𝘳 𝘵𝘪𝘮𝘦.\n\nhttps://eventfrog.de/de/p/partys/house-techno/crew-love-7452634608892403319.html
LOCATION:Kauz
GEO:47.381504;8.536924
URL:https://eventfrog.de/de/p/partys/house-techno/crew-love-7452634608892403319.html
END:VEVENT
END:VCALENDAR