BEGIN:VCALENDAR
VERSION:2.0
PRODID:EVENTFROG//EVENT//ICAL
BEGIN:VEVENT
UID:20260425T212215Z-7452644072823490681@eventfrog.de
DTSTAMP:20260425T212215Z
DTSTART:20260926T100000Z
DTEND:20260926T203000Z
SUMMARY:Dinner in the Sky Düsseldorf
DESCRIPTION:Dinner in the Sky serviert exklusive Gerichte in 50 m Höhe mit spektakulärem Panorama über Köln, Düsseldorf und Hamburg.\n\nhttps://eventfrog.de/de/p/essen-trinken/dinner-in-the-sky-duesseldorf-7452644072823490681.html
LOCATION:Hansaallee 313
GEO:51.244464;6.716604
URL:https://eventfrog.de/de/p/essen-trinken/dinner-in-the-sky-duesseldorf-7452644072823490681.html
END:VEVENT
END:VCALENDAR