BEGIN:VCALENDAR
VERSION:2.0
PRODID:EVENTFROG//EVENT//ICAL
BEGIN:VEVENT
UID:20260424T083623Z-7452646511672878986@eventfrog.de
DTSTAMP:20260424T083623Z
DTSTART:20260502T093000Z
DTEND:20260502T110000Z
SUMMARY:Kochbuchpräsentation mit Tasting mit Tiziana Cuviello
DESCRIPTION:Food Creatorin Tiziana Cuviello präsentiert ihr Kochbuch "Schweizer Küche vegan".\n\nhttps://eventfrog.de/de/p/theater-buehne/lesung/kochbuchpraesentation-mit-tasting-mit-tiziana-cuviello-7452646511672878986.html
LOCATION:Bücher Lüthy Aarau
GEO:47.390821;8.046890
URL:https://eventfrog.de/de/p/theater-buehne/lesung/kochbuchpraesentation-mit-tasting-mit-tiziana-cuviello-7452646511672878986.html
END:VEVENT
END:VCALENDAR