BEGIN:VCALENDAR
VERSION:2.0
PRODID:EVENTFROG//EVENT//ICAL
BEGIN:VEVENT
UID:20260425T164409Z-7452647019351407458@eventfrog.de
DTSTAMP:20260425T164409Z
DTSTART:20260524T160000Z
DTEND:20260524T180000Z
SUMMARY:Menschen am Sonntag - Johanna Schall trifft: Hermann Beyer
DESCRIPTION:Gastgeberin Johanna Schall lädt ein: Schauspieler Herrmann Beyer\n\nhttps://eventfrog.de/de/p/theater-buehne/buehnenveranstaltung/menschen-am-sonntag-johanna-schall-trifft-hermann-beyer-7452647019351407458.html
LOCATION:Theater Ost
GEO:52.433614;13.539208
URL:https://eventfrog.de/de/p/theater-buehne/buehnenveranstaltung/menschen-am-sonntag-johanna-schall-trifft-hermann-beyer-7452647019351407458.html
END:VEVENT
END:VCALENDAR