BEGIN:VCALENDAR
VERSION:2.0
PRODID:EVENTFROG//EVENT//ICAL
BEGIN:VEVENT
UID:20260425T040825Z-7452652897030902969@eventfrog.de
DTSTAMP:20260425T040825Z
DTSTART:20260430T170000Z
DTEND:20260430T180000Z
SUMMARY:Produkt und Geschäftspräsentation - Live Event
DESCRIPTION:Live Event \nSport  Gesundheit  Stoffwechsel  Plan B \n\nhttps://eventfrog.de/de/p/diverses/produkt-und-geschaeftspraesentation-live-event-7452652897030902969.html
LOCATION:Fürstenberg Bräustüble
GEO:47.951567;8.500374
URL:https://eventfrog.de/de/p/diverses/produkt-und-geschaeftspraesentation-live-event-7452652897030902969.html
END:VEVENT
END:VCALENDAR