BEGIN:VCALENDAR
VERSION:2.0
PRODID:EVENTFROG//EVENT//ICAL
BEGIN:VEVENT
UID:20260424T110704Z-7452656958912374685@eventfrog.de
DTSTAMP:20260424T110704Z
DTSTART:20260514T080000Z
DTEND:20260514T215900Z
SUMMARY:Vatertag im City Bowling
DESCRIPTION:Vatertag im City Bowling • Gratis Leihschuhe für alle Väter • Erdinger Brauhaus helles 0,5 l nur 3,90 \n\nhttps://eventfrog.de/de/p/freizeit-ausfluege/ausflug/vatertag-im-city-bowling-7452656958912374685.html
LOCATION:City Bowling Wiesbaden
GEO:50.076394;8.251523
URL:https://eventfrog.de/de/p/freizeit-ausfluege/ausflug/vatertag-im-city-bowling-7452656958912374685.html
END:VEVENT
END:VCALENDAR