BEGIN:VCALENDAR
VERSION:2.0
PRODID:EVENTFROG//EVENT//ICAL
BEGIN:VEVENT
UID:20260426T011355Z-7452665531499338937@eventfrog.de
DTSTAMP:20260426T011355Z
DTSTART:20260828T181500Z
SUMMARY:Pedro Lenz & Simon Ho & Jonatan Blaty «Mit Linggs»
DESCRIPTION:Diego Armando Maradona – ein Name, der weit über den Fussball hinausstrahlt. Er war eine Figur voller Widersprüche, dessen Leben geprägt war von Höhenflügen und Abstürzen.\n\nhttps://eventfrog.de/de/p/theater-buehne/theater/pedro-lenz-simon-ho-jonatan-blaty-mit-linggs-7452665531499338937.html
LOCATION:Konservi
GEO:47.352300;8.159470
URL:https://eventfrog.de/de/p/theater-buehne/theater/pedro-lenz-simon-ho-jonatan-blaty-mit-linggs-7452665531499338937.html
END:VEVENT
END:VCALENDAR