BEGIN:VCALENDAR
VERSION:2.0
PRODID:EVENTFROG//EVENT//ICAL
BEGIN:VEVENT
UID:20260424T083511Z-7452668651461688637@eventfrog.de
DTSTAMP:20260424T083511Z
DTSTART:20260515T200000Z
SUMMARY:PURE – House Classics 1995-2010
DESCRIPTION:PURE präsentiert am 15. Mai eine Special Night mit House Classics von 1995 bis 2010, aufgelegt von DJ Joseph M. & Team. \n\nhttps://eventfrog.de/en/p/parties/house-techno/pure-house-classics-1995-2010-7452668651461688637.html
LOCATION:ParterreOne Music
GEO:47.563686;7.590964
URL:https://eventfrog.de/en/p/parties/house-techno/pure-house-classics-1995-2010-7452668651461688637.html
END:VEVENT
END:VCALENDAR