BEGIN:VCALENDAR
VERSION:2.0
PRODID:EVENTFROG//EVENT//ICAL
BEGIN:VEVENT
UID:20260426T024113Z-7452673542062143129@eventfrog.de
DTSTAMP:20260426T024113Z
DTSTART:20260512T163000Z
SUMMARY:Schaufenster Kultur: Die Denkmalpflege stellt sich vor
DESCRIPTION:Kurze Inputs, lebendige Einblicke: Das «Schaufenster Kultur» macht sichtbar, wie vielseitig die Arbeit der Dienststelle Kultur des Kantons Luzern ist. Wir zeigen konkret, woran wir arbeiten.\n\nhttps://eventfrog.de/de/p/fuehrungen-vortraege/vortrag/schaufenster-kultur-die-denkmalpflege-stellt-sich-vor-7452673542062143129.html
LOCATION:Zentral- und Hochschulbibliothek Luzern (ZHB)
GEO:47.048400;8.307470
URL:https://eventfrog.de/de/p/fuehrungen-vortraege/vortrag/schaufenster-kultur-die-denkmalpflege-stellt-sich-vor-7452673542062143129.html
END:VEVENT
END:VCALENDAR