BEGIN:VCALENDAR
VERSION:2.0
PRODID:EVENTFROG//EVENT//ICAL
BEGIN:VEVENT
UID:20260424T123656Z-7452676405203096018@eventfrog.de
DTSTAMP:20260424T123656Z
DTSTART:20260527T123000Z
DTEND:20260527T140000Z
SUMMARY:Paysage, l'horizon hésite: dessin dans le jardin du musée
DESCRIPTION:Participez à un atelier de dessin avec Isabelle Schiper dans le jardin, puis créez une œuvre inspirée de son univers.\n\nhttps://eventfrog.de/fr/p/art-expositions/autres-evenements-artistiques/paysage-l-horizon-hesite-dessin-dans-le-jardin-du-musee-7452676405203096018.html
LOCATION:Musée historique de Lausanne
GEO:46.522100;6.634880
URL:https://eventfrog.de/fr/p/art-expositions/autres-evenements-artistiques/paysage-l-horizon-hesite-dessin-dans-le-jardin-du-musee-7452676405203096018.html
END:VEVENT
END:VCALENDAR