BEGIN:VCALENDAR
VERSION:2.0
PRODID:EVENTFROG//EVENT//ICAL
BEGIN:VEVENT
UID:20260424T082143Z-7452677354554428967@eventfrog.de
DTSTAMP:20260424T082143Z
DTSTART:20260514T180000Z
DTEND:20260514T203000Z
SUMMARY:AWARË - concert live - Vevey - 14 mai 2026
DESCRIPTION:AWARË donne un concert immersif et méditatif à Vevey le 14 mai 2026, mêlant musique, danse, silence et improvisation.\n\nhttps://eventfrog.de/fr/p/concerts/folk/aware-concert-live-vevey-14-mai-2026-7452677354554428967.html
LOCATION:Salle del Castillo
GEO:46.459200;6.841110
URL:https://eventfrog.de/fr/p/concerts/folk/aware-concert-live-vevey-14-mai-2026-7452677354554428967.html
END:VEVENT
END:VCALENDAR