BEGIN:VCALENDAR
VERSION:2.0
PRODID:EVENTFROG//EVENT//ICAL
BEGIN:VEVENT
UID:20260424T083622Z-7452677967103139890@eventfrog.de
DTSTAMP:20260424T083622Z
DTSTART:20260611T153000Z
DTEND:20260611T163000Z
SUMMARY:Art, mémoire et engagement : rencontre avec Caroline Ventura
DESCRIPTION:Rencontrez Caroline Ventura, explorez son œuvre et discutez librement de sa démarche artistique et de ses outils.\n\nhttps://eventfrog.de/fr/p/art-expositions/autres-evenements-artistiques/art-memoire-et-engagement-rencontre-avec-caroline-ventura-7452677967103139890.html
LOCATION:Musée historique de Lausanne
GEO:46.522100;6.634880
URL:https://eventfrog.de/fr/p/art-expositions/autres-evenements-artistiques/art-memoire-et-engagement-rencontre-avec-caroline-ventura-7452677967103139890.html
END:VEVENT
END:VCALENDAR