BEGIN:VCALENDAR
VERSION:2.0
PRODID:EVENTFROG//EVENT//ICAL
BEGIN:VEVENT
UID:20260424T083919Z-7452683453223430020@eventfrog.de
DTSTAMP:20260424T083919Z
DTSTART:20260527T160000Z
SUMMARY:Mehr kulturschaffende Frauen auf Wikipedia
DESCRIPTION:Wikipedia-Schreibwerkstatt.\n\nhttps://eventfrog.de/de/p/kurse-seminare/kunst-kultur/mehr-kulturschaffende-frauen-auf-wikipedia-7452683453223430020.html
LOCATION:Karl der Grosse - Grüne Stube
GEO:47.370552;8.545169
URL:https://eventfrog.de/de/p/kurse-seminare/kunst-kultur/mehr-kulturschaffende-frauen-auf-wikipedia-7452683453223430020.html
END:VEVENT
END:VCALENDAR