BEGIN:VCALENDAR
VERSION:2.0
PRODID:EVENTFROG//EVENT//ICAL
BEGIN:VEVENT
UID:20260425T182951Z-7452683846263284457@eventfrog.de
DTSTAMP:20260425T182951Z
DTSTART:20260509T200000Z
DTEND:20260510T010000Z
SUMMARY:S BAR Club Night feat. DJ Chris Rodriguez
DESCRIPTION:Electro Night in der Altstadt von Bad Windsheim\n\nhttps://eventfrog.de/de/p/partys/disco/s-bar-club-night-feat-dj-chris-rodriguez-7452683846263284457.html
LOCATION:S BAR - Bad Windsheim
GEO:49.503111;10.417874
URL:https://eventfrog.de/de/p/partys/disco/s-bar-club-night-feat-dj-chris-rodriguez-7452683846263284457.html
END:VEVENT
END:VCALENDAR