BEGIN:VCALENDAR
VERSION:2.0
PRODID:EVENTFROG//EVENT//ICAL
BEGIN:VEVENT
UID:20260422T224207Z-7452688914026870781@eventfrog.de
DTSTAMP:20260422T224207Z
DTSTART:20260514T180000Z
DTEND:20260514T194500Z
SUMMARY:Die reichste Frau der Welt ( Komödie )
DESCRIPTION:Ein berauschend komisches Drama, das in seinen Abgründen an Shakespeare erinnert: DIE REICHSTE FRAU DER WELT mit einer brillanten Isabelle Huppert in der Titelrolle ist eine so grandiose wie doppelböd\n\nhttps://eventfrog.de/de/p/freizeit-ausfluege/film-kino/die-reichste-frau-der-welt-komoedie-7452688914026870781.html
LOCATION:Orfeos
GEO:50.115549;8.646561
URL:https://eventfrog.de/de/p/freizeit-ausfluege/film-kino/die-reichste-frau-der-welt-komoedie-7452688914026870781.html
END:VEVENT
END:VCALENDAR