BEGIN:VCALENDAR
VERSION:2.0
PRODID:EVENTFROG//EVENT//ICAL
BEGIN:VEVENT
UID:20260424T100637Z-7452691310958354988@eventfrog.de
DTSTAMP:20260424T100637Z
DTSTART:20260702T140000Z
DTEND:20260702T200000Z
SUMMARY:Sommerfest
DESCRIPTION:Das Sommerfest im ZID bietet ein Töggeli-Turnier, BBQ-Beilagen und Getränke für einen entspannten Abend.\n\nhttps://eventfrog.de/de/p/partys/sonstige-partys/sommerfest-7452691310958354988.html
LOCATION:Zentrum für Innovation und Digitalisierung Bernapark 
GEO:46.958048;7.514004
URL:https://eventfrog.de/de/p/partys/sonstige-partys/sommerfest-7452691310958354988.html
END:VEVENT
END:VCALENDAR