BEGIN:VCALENDAR
VERSION:2.0
PRODID:EVENTFROG//EVENT//ICAL
BEGIN:VEVENT
UID:20260422T181523Z-7452695504649998475@eventfrog.de
DTSTAMP:20260422T181523Z
DTSTART:20260423T160000Z
SUMMARY:Thursday — Apero & Vinyl Open Decks
DESCRIPTION:Jeden Donnerstag ab 18 Uhr entspanntes Vinyl-Open-Decks-Event, ab 21 Uhr DJ Gene Douglas und wechselnde lokale DJs.\n\nhttps://eventfrog.de/de/p/partys/sonstige-partys/thursday-apero-vinyl-open-decks-7452695504649998475.html
LOCATION:The Spot Bar
GEO:47.379538;8.526002
URL:https://eventfrog.de/de/p/partys/sonstige-partys/thursday-apero-vinyl-open-decks-7452695504649998475.html
END:VEVENT
END:VCALENDAR