BEGIN:VCALENDAR
VERSION:2.0
PRODID:EVENTFROG//EVENT//ICAL
BEGIN:VEVENT
UID:20260425T222819Z-7452696221985074362@eventfrog.de
DTSTAMP:20260425T222819Z
DTSTART:20260425T180000Z
DTEND:20260426T000000Z
SUMMARY:Charmin' Carmen
DESCRIPTION:Charmin' Carmen spielen am 25.4.2026 ab 20 Uhr in Stuttgart ein energiegeladenes Konzert mit Indie-Rock, Punk und Rock’n’Roll.\n\nhttps://eventfrog.de/de/p/konzerte/hard-rock-heavy-metal/charmin-carmen-7452696221985074362.html
LOCATION:Esslinger Str. 2
GEO:48.773667;9.181330
URL:https://eventfrog.de/de/p/konzerte/hard-rock-heavy-metal/charmin-carmen-7452696221985074362.html
END:VEVENT
END:VCALENDAR