BEGIN:VCALENDAR
VERSION:2.0
PRODID:EVENTFROG//EVENT//ICAL
BEGIN:VEVENT
UID:20260423T070529Z-7452698128463977982@eventfrog.de
DTSTAMP:20260423T070529Z
DTSTART:20260621T150000Z
SUMMARY:Drum & Bass Sundays @ The Spot Bar
DESCRIPTION:Jeden Sonntag spielen lokale DJs ab 17 Uhr in der The Spot Bar energiegeladene elektronische Musik mit fetten Basslines.\n\nhttps://eventfrog.de/de/p/partys/dubstep-d-n-b/drum-bass-sundays-the-spot-bar-7452698128463977982.html
LOCATION:The Spot Bar
GEO:47.379538;8.526002
URL:https://eventfrog.de/de/p/partys/dubstep-d-n-b/drum-bass-sundays-the-spot-bar-7452698128463977982.html
END:VEVENT
END:VCALENDAR