BEGIN:VCALENDAR
VERSION:2.0
PRODID:EVENTFROG//EVENT//ICAL
BEGIN:VEVENT
UID:20260423T053743Z-7452698729633552680@eventfrog.de
DTSTAMP:20260423T053743Z
DTSTART:20260503T163000Z
DTEND:20260503T180000Z
SUMMARY:Lifts & Aerials mit Markus - ein Kurs der Crazy Shakers
DESCRIPTION:Zweitägiger Kurs mit Markus Berghahn zu Lifts und Aerials von einfach bis anspruchsvoll, 26.4. & 3.5., Zürich, Anmeldung nötig.\n\nhttps://eventfrog.de/de/p/kurse-seminare/musik-tanz/lifts-aerials-mit-markus-ein-kurs-der-crazy-shakers-7452698729633552680.html
LOCATION:Club Silbando
GEO:47.392000;8.514990
URL:https://eventfrog.de/de/p/kurse-seminare/musik-tanz/lifts-aerials-mit-markus-ein-kurs-der-crazy-shakers-7452698729633552680.html
END:VEVENT
END:VCALENDAR