BEGIN:VCALENDAR
VERSION:2.0
PRODID:EVENTFROG//EVENT//ICAL
BEGIN:VEVENT
UID:20260424T060316Z-7452699279255185501@eventfrog.de
DTSTAMP:20260424T060316Z
DTSTART:20260515T180000Z
DTEND:20260516T000000Z
SUMMARY:Tarmac Tigers & Mikrophön
DESCRIPTION:Tarmac Tigers und Mikrophön spielen ab 20 Uhr einen lauten Abend mit Post-Punk, Krautrock und gitarrenlastigem Rock.\n\nhttps://eventfrog.de/de/p/konzerte/punk/tarmac-tigers-mikrophoen-7452699279255185501.html
LOCATION:Esslinger Str. 2
GEO:48.773667;9.181330
URL:https://eventfrog.de/de/p/konzerte/punk/tarmac-tigers-mikrophoen-7452699279255185501.html
END:VEVENT
END:VCALENDAR