BEGIN:VCALENDAR
VERSION:2.0
PRODID:EVENTFROG//EVENT//ICAL
BEGIN:VEVENT
UID:20260422T194014Z-7452702117112873612@eventfrog.de
DTSTAMP:20260422T194014Z
DTSTART:20260904T180000Z
DTEND:20260904T210000Z
SUMMARY:Mamma Mia (ABBA) Mitsing-Party – Hits, DJ & 70s-Feeling!
DESCRIPTION:Erlebe bei der Mamma Mia Mitsing-Party die größten ABBA-Hits mit Live-DJ und interaktiver Stimmung im 70er-Jahre-Style.\n\nhttps://eventfrog.de/de/p/partys/70-s/mamma-mia-abba-mitsing-party-hits-dj-70s-feeling-7452702117112873612.html
LOCATION:RP5
GEO:52.378661;9.742921
URL:https://eventfrog.de/de/p/partys/70-s/mamma-mia-abba-mitsing-party-hits-dj-70s-feeling-7452702117112873612.html
END:VEVENT
END:VCALENDAR