BEGIN:VCALENDAR
VERSION:2.0
PRODID:EVENTFROG//EVENT//ICAL
BEGIN:VEVENT
UID:20260425T122138Z-7452705491438814794@eventfrog.de
DTSTAMP:20260425T122138Z
DTSTART:20260606T180000Z
SUMMARY:Mari Froes live at Astra Berlin
DESCRIPTION:Mari Froes aus Brasilien startet 2026 ihre bisher grösste Europa-Tour mit über 30 Konzerten und Festivalauftritten in Deutschland.\n\nhttps://eventfrog.de/de/p/konzerte/pop-rock/mari-froes-live-at-astra-berlin-7452705491438814794.html
LOCATION:Astra Kulturhaus
GEO:52.507170;13.452920
URL:https://eventfrog.de/de/p/konzerte/pop-rock/mari-froes-live-at-astra-berlin-7452705491438814794.html
END:VEVENT
END:VCALENDAR