BEGIN:VCALENDAR
VERSION:2.0
PRODID:EVENTFROG//EVENT//ICAL
BEGIN:VEVENT
UID:20260424T092403Z-7452707093839104053@eventfrog.de
DTSTAMP:20260424T092403Z
DTSTART:20260620T071500Z
DTEND:20260620T133000Z
SUMMARY:Landschaftswanderung mit Archäologie
DESCRIPTION:Landschaftswanderung mit Archäologie\n\nhttps://eventfrog.de/de/p/freizeit-ausfluege/wanderung/landschaftswanderung-mit-archaeologie-7452707093839104053.html
LOCATION:Bahnhof Mumpf
GEO:47.547558;7.909930
URL:https://eventfrog.de/de/p/freizeit-ausfluege/wanderung/landschaftswanderung-mit-archaeologie-7452707093839104053.html
END:VEVENT
END:VCALENDAR