BEGIN:VCALENDAR
VERSION:2.0
PRODID:EVENTFROG//EVENT//ICAL
BEGIN:VEVENT
UID:20260425T164416Z-7452715978436136001@eventfrog.de
DTSTAMP:20260425T164416Z
DTSTART:20260510T170000Z
DTEND:20260510T184500Z
SUMMARY:loveletters
DESCRIPTION:Eine musikalische Liebesbrief-Lesung: Sebastian Zett und Daniel Lindenblatt präsentieren Liebesbriefe berühmter Personen aus sechs Jahrhunderten, begleitet von Gitarrenmusik und Songs.\n\nhttps://eventfrog.de/de/p/theater-buehne/lesung/loveletters-7452715978436136001.html
LOCATION:Z-Bar Berlin
GEO:52.529591;13.396076
URL:https://eventfrog.de/de/p/theater-buehne/lesung/loveletters-7452715978436136001.html
END:VEVENT
END:VCALENDAR