BEGIN:VCALENDAR
VERSION:2.0
PRODID:EVENTFROG//EVENT//ICAL
BEGIN:VEVENT
UID:20260424T084827Z-7452719252610500284@eventfrog.de
DTSTAMP:20260424T084827Z
DTSTART:20261017T150000Z
SUMMARY:Die rote Zora - Strassentheater mit Café Fuerte
DESCRIPTION:Die rote Zora von Kurt Held  für die Bühne bearbeitet von Thomas Birkmeir Bewegtes Theaterstück für draußen und drinnen von Café Fuerte\n\nhttps://eventfrog.de/de/p/theater-buehne/theater/die-rote-zora-strassentheater-mit-cafe-fuerte-7452719252610500284.html
LOCATION:Langhuus Kulturfabrik Cham
GEO:47.185132;8.459231
URL:https://eventfrog.de/de/p/theater-buehne/theater/die-rote-zora-strassentheater-mit-cafe-fuerte-7452719252610500284.html
END:VEVENT
END:VCALENDAR