BEGIN:VCALENDAR
VERSION:2.0
PRODID:EVENTFROG//EVENT//ICAL
BEGIN:VEVENT
UID:20260424T110136Z-7452731800885952966@eventfrog.de
DTSTAMP:20260424T110136Z
DTSTART:20260629T140000Z
DTEND:20260629T163000Z
SUMMARY:amm Café Med St. Gallen
DESCRIPTION:Unterstützung bei medizinischen Fragen und Entscheidungen. Ein Angebot für alle, in jedem Alter, zu allen medizinischen Fragen. Ohne Zeitdruck, ohne Voranmeldung, persönlich und kostenlos.\n\nhttps://eventfrog.de/de/p/gesundheit-spiritualitaet/gesundheit-wohlbefinden/amm-cafe-med-st-gallen-7452731800885952966.html
LOCATION:DenkBar
GEO:47.423897;9.376600
URL:https://eventfrog.de/de/p/gesundheit-spiritualitaet/gesundheit-wohlbefinden/amm-cafe-med-st-gallen-7452731800885952966.html
END:VEVENT
END:VCALENDAR