BEGIN:VCALENDAR
VERSION:2.0
PRODID:EVENTFROG//EVENT//ICAL
BEGIN:VEVENT
UID:20260424T083803Z-7452740605577289035@eventfrog.de
DTSTAMP:20260424T083803Z
DTSTART:20260501T180000Z
DTEND:20260501T203000Z
SUMMARY:Folk in Heaven: Dave Ellis & Boo Howard (UK)
DESCRIPTION:Dave Ellis und Boo Howard - einzigartiges Singer-Songwriter-Duo aus London. 'Vielsaitig', vielseitig und virtuos!\n\nhttps://eventfrog.de/de/p/konzerte/singer-songwriter/folk-in-heaven-dave-ellis-boo-howard-uk-7452740605577289035.html
LOCATION:Haus zum Himmel
GEO:47.175800;7.336590
URL:https://eventfrog.de/de/p/konzerte/singer-songwriter/folk-in-heaven-dave-ellis-boo-howard-uk-7452740605577289035.html
END:VEVENT
END:VCALENDAR