BEGIN:VCALENDAR
VERSION:2.0
PRODID:EVENTFROG//EVENT//ICAL
BEGIN:VEVENT
UID:20260424T083757Z-7452744209432322986@eventfrog.de
DTSTAMP:20260424T083757Z
DTSTART:20260501T140000Z
DTEND:20260501T160000Z
SUMMARY:English Standup Comedy Luzern : Free Entry!
DESCRIPTION:English Standup Comedy Luzern : Free Entry! Get ready for a night full of laughter, wit, and hilarious surprises! Capsule Hotel Chapter Lucerne is transforming into a comedy hotspot!\n\nhttps://eventfrog.de/de/p/theater-buehne/comedy-kabarett/english-standup-comedy-luzern-free-entry-7452744209432322986.html
LOCATION:Capsule Hotel Chapter Lucerne
GEO:47.057574;8.309842
URL:https://eventfrog.de/de/p/theater-buehne/comedy-kabarett/english-standup-comedy-luzern-free-entry-7452744209432322986.html
END:VEVENT
END:VCALENDAR